BEGIN:VCALENDAR
VERSION:2.0
PRODID:-//Unicas+ - ECPv6.15.20//NONSGML v1.0//EN
CALSCALE:GREGORIAN
METHOD:PUBLISH
X-WR-CALNAME:Unicas+
X-ORIGINAL-URL:https://unicaspiu.unicas.it
X-WR-CALDESC:Eventi per Unicas+
REFRESH-INTERVAL;VALUE=DURATION:PT1H
X-Robots-Tag:noindex
X-PUBLISHED-TTL:PT1H
BEGIN:VTIMEZONE
TZID:Europe/Rome
BEGIN:DAYLIGHT
TZOFFSETFROM:+0100
TZOFFSETTO:+0200
TZNAME:CEST
DTSTART:20250330T010000
END:DAYLIGHT
BEGIN:STANDARD
TZOFFSETFROM:+0200
TZOFFSETTO:+0100
TZNAME:CET
DTSTART:20251026T010000
END:STANDARD
BEGIN:DAYLIGHT
TZOFFSETFROM:+0100
TZOFFSETTO:+0200
TZNAME:CEST
DTSTART:20260329T010000
END:DAYLIGHT
BEGIN:STANDARD
TZOFFSETFROM:+0200
TZOFFSETTO:+0100
TZNAME:CET
DTSTART:20261025T010000
END:STANDARD
BEGIN:DAYLIGHT
TZOFFSETFROM:+0100
TZOFFSETTO:+0200
TZNAME:CEST
DTSTART:20270328T010000
END:DAYLIGHT
BEGIN:STANDARD
TZOFFSETFROM:+0200
TZOFFSETTO:+0100
TZNAME:CET
DTSTART:20271031T010000
END:STANDARD
END:VTIMEZONE
BEGIN:VEVENT
DTSTART;TZID=Europe/Rome:20260401T080000
DTEND;TZID=Europe/Rome:20260515T170000
DTSTAMP:20260422T030652
CREATED:20260324T155628Z
LAST-MODIFIED:20260324T155646Z
UID:848-1775030400-1778864400@unicaspiu.unicas.it
SUMMARY:La personale di Carlo De Meo inaugura la stagione espositiva di Unicas
DESCRIPTION:La mostra personale di Carlo De Meo apre la stagione espositiva 2026 dell’Università degli Studi di Cassino e del Lazio Meridionale\, segnando un nuovo capitolo in continuità con il ciclo di esposizioni avviato nel marzo 2023 dalla Delega del Rettore per la Diffusione della Conoscenza e della Cultura – SCIRE\, nell’ambito delle attività di Terza Missione (prof.ssa Ivana Bruno). L’iniziativa conferma l’impegno dell’Ateneo nel valorizzare i propri spazi come luoghi di diffusione della creatività artistica\, sia territoriale sia nazionale. \nFra Cassino e Gaeta\nPer la seconda volta\, il progetto espositivo si sviluppa simultaneamente in due città sede delle attività universitarie: Cassino\, negli spazi dell’Atrio del Rettorato; e Gaeta\, presso la Pinacoteca Comunale “Antonio Sapone”\, partner scientifico dell’iniziativa grazie a una recente convenzione con il Dipartimento di Lettere e Filosofia. \nNarrazioni visive\nLa ricerca artistica di Carlo De Meo si configura come un’indagine sulle narrazioni visive\, capace di attraversare ambiti diversi\, dall’oggetto d’uso quotidiano alla storia dell’arte. Le sue opere si collocano in un territorio di confine fatto di pulsazioni\, ambiguità\, tensioni sensoriali e destabilizzazione dello sguardo. I suoi lavori tendono ad ingannare la percezione per mostrare quanto l’ambiguità sia una parte integrante della nostra esistenza quotidiana e quanto un siffatto conflitto possa essere in grado di generare nuove ed inedite interpretazioni di ciò che diamo per acquisito. \nIl curatore\nLa mostra presso il Rettorato\, curata da Luca Palermo\, docente di Storia dell’arte contemporanea\, sarà inaugurata il 1° aprile alle ore 16:30. All’allestimento ha contribuito Raffaele D’Aquanno. Parallelamente\, l’esposizione ospitata nella Pinacoteca “Antonio Sapone” di Gaeta\, curata da Vincenzo Lieto\, direttore della Pinacoteca\, aprirà al pubblico il 10 aprile alle ore 18:30. \n\nL’esposizione al Rettorato sarà visitabile dal lunedì al venerdì\, dalle 10:00 alle 13:00 e dalle 15:00 alle 18:00.\nLa mostra alla Pinacoteca “Antonio Sapone” seguirà gli orari del museo: giovedì dalle 11:00 alle 13:00; venerdì\, sabato e domenica dalle 11:00 alle 13:00 e dalle 16:00 alle 20:00.\n\n\nPrenotazione consigliata al numero +3203282380 \n\n \n 
URL:https://unicaspiu.unicas.it/evento/la-personale-di-carlo-de-meo-inaugura-la-stagione-espositiva-di-unicas/
LOCATION:Università degli Studi di Cassino
CATEGORIES:Eventi locali
ATTACH;FMTTYPE=image/jpeg:https://unicaspiu.unicas.it/wp-content/uploads/2026/03/Carlo-De-Meo-e1774367736736.jpeg
ORGANIZER;CN="Scire Unicas":MAILTO:scire@unicas.it
END:VEVENT
END:VCALENDAR